BEGIN:VCALENDAR
VERSION:2.0
PRODID:-//jautrisirdis.lt - ECPv6.15.18//NONSGML v1.0//EN
CALSCALE:GREGORIAN
METHOD:PUBLISH
X-WR-CALNAME:jautrisirdis.lt
X-ORIGINAL-URL:https://jautrisirdis.lt
X-WR-CALDESC:jautrisirdis.lt renginiai
REFRESH-INTERVAL;VALUE=DURATION:PT1H
X-Robots-Tag:noindex
X-PUBLISHED-TTL:PT1H
BEGIN:VTIMEZONE
TZID:UTC
BEGIN:STANDARD
TZOFFSETFROM:+0000
TZOFFSETTO:+0000
TZNAME:UTC
DTSTART:20250101T000000
END:STANDARD
END:VTIMEZONE
BEGIN:VEVENT
DTSTART;TZID=UTC:20260420T090000
DTEND;TZID=UTC:20260420T110000
DTSTAMP:20260420T045640
CREATED:20260401T073124Z
LAST-MODIFIED:20260401T073137Z
UID:4246-1776675600-1776682800@jautrisirdis.lt
SUMMARY:Pykčio valdymas
DESCRIPTION:Please enable JavaScript in your browser to complete this form.Mokymų data: *Vardas\, pavardė: *El. paštas: *Telefono numeris: *Jūsų žinutė:PATEIKTI
URL:https://jautrisirdis.lt/mokymai/pykcio-valdymas-04-20/
LOCATION:Panemunėlio universalus daugiafunkcis centras\, Kamajų g. 11\, Panemunėlio glž. St.\, Lietuva
ORGANIZER;CN="Roki%C5%A1kio rajono bendruomeniniai %C5%A1eimos namai V%C5%A1%C4%AE %E2%80%9CJautri %C5%A1irdis%E2%80%9C":MAILTO:seimosnamai@jautrisirdis.lt
END:VEVENT
BEGIN:VEVENT
DTSTART;TZID=UTC:20260420T111500
DTEND;TZID=UTC:20260420T131500
DTSTAMP:20260420T045640
CREATED:20260401T075913Z
LAST-MODIFIED:20260401T075913Z
UID:4248-1776683700-1776690900@jautrisirdis.lt
SUMMARY:Probleminis vaikų ir paauglių elgesys
DESCRIPTION:Please enable JavaScript in your browser to complete this form.Mokymų data: *Vardas\, pavardė: *El. paštas: *Telefono numeris: *Jūsų žinutė:PATEIKTI
URL:https://jautrisirdis.lt/mokymai/probleminis-vaiku-ir-paaugliu-elgesys/
LOCATION:Panemunėlio universalus daugiafunkcis centras\, Kamajų g. 11\, Panemunėlio glž. St.\, Lietuva
ORGANIZER;CN="Roki%C5%A1kio rajono bendruomeniniai %C5%A1eimos namai V%C5%A1%C4%AE %E2%80%9CJautri %C5%A1irdis%E2%80%9C":MAILTO:seimosnamai@jautrisirdis.lt
END:VEVENT
BEGIN:VEVENT
DTSTART;TZID=UTC:20260420T140000
DTEND;TZID=UTC:20260420T160000
DTSTAMP:20260420T045640
CREATED:20260401T080216Z
LAST-MODIFIED:20260401T080226Z
UID:4250-1776693600-1776700800@jautrisirdis.lt
SUMMARY:Socialiniai įgūdžiai be streso: bendravimas\, pasitikėjimas\, empatija
DESCRIPTION:Please enable JavaScript in your browser to complete this form.Mokymų data: *Vardas\, pavardė: *El. paštas: *Telefono numeris: *Jūsų žinutė:PATEIKTI
URL:https://jautrisirdis.lt/mokymai/socialiniai-igudziai-be-streso-bendravimas-pasitikejimas-empatija-04-20/
LOCATION:Taikos g. 17\, Taikos g. 17\, Rokiškis\, Lietuva
ORGANIZER;CN="Roki%C5%A1kio rajono bendruomeniniai %C5%A1eimos namai V%C5%A1%C4%AE %E2%80%9CJautri %C5%A1irdis%E2%80%9C":MAILTO:seimosnamai@jautrisirdis.lt
END:VEVENT
BEGIN:VEVENT
DTSTART;TZID=UTC:20260420T161500
DTEND;TZID=UTC:20260420T181500
DTSTAMP:20260420T045640
CREATED:20260401T080347Z
LAST-MODIFIED:20260401T080347Z
UID:4254-1776701700-1776708900@jautrisirdis.lt
SUMMARY:Tėvystės mokymai. Paauglystės iššūkiai ir problemos
DESCRIPTION:Please enable JavaScript in your browser to complete this form.Mokymų data: *Vardas\, pavardė: *El. paštas: *Telefono numeris: *Jūsų žinutė:PATEIKTI
URL:https://jautrisirdis.lt/mokymai/tevystes-mokymai-paauglystes-issukiai-ir-problemos/
LOCATION:Taikos g. 17\, Taikos g. 17\, Rokiškis\, Lietuva
ORGANIZER;CN="Roki%C5%A1kio rajono bendruomeniniai %C5%A1eimos namai V%C5%A1%C4%AE %E2%80%9CJautri %C5%A1irdis%E2%80%9C":MAILTO:seimosnamai@jautrisirdis.lt
END:VEVENT
END:VCALENDAR