BEGIN:VCALENDAR
VERSION:2.0
PRODID:-//jautrisirdis.lt - ECPv6.15.18//NONSGML v1.0//EN
CALSCALE:GREGORIAN
METHOD:PUBLISH
X-WR-CALNAME:jautrisirdis.lt
X-ORIGINAL-URL:https://jautrisirdis.lt
X-WR-CALDESC:jautrisirdis.lt renginiai
REFRESH-INTERVAL;VALUE=DURATION:PT1H
X-Robots-Tag:noindex
X-PUBLISHED-TTL:PT1H
BEGIN:VTIMEZONE
TZID:UTC
BEGIN:STANDARD
TZOFFSETFROM:+0000
TZOFFSETTO:+0000
TZNAME:UTC
DTSTART:20240101T000000
END:STANDARD
END:VTIMEZONE
BEGIN:VEVENT
DTSTART;TZID=UTC:20251002T090000
DTEND;TZID=UTC:20251002T110000
DTSTAMP:20260420T155518
CREATED:20251004T223748Z
LAST-MODIFIED:20251004T223748Z
UID:3796-1759395600-1759402800@jautrisirdis.lt
SUMMARY:Sąmoninga tėvystė: ryšys\, bendravimas ir ribos
DESCRIPTION:
URL:https://jautrisirdis.lt/mokymai/samoninga-tevyste-rysys-bendravimas-ir-ribos/
LOCATION:Kriaunos buvusios mokyklos patalpos\, Sartų g. 19\, Kriaunos\, Lietuva
ORGANIZER;CN="Roki%C5%A1kio rajono bendruomeniniai %C5%A1eimos namai V%C5%A1%C4%AE %E2%80%9CJautri %C5%A1irdis%E2%80%9C":MAILTO:seimosnamai@jautrisirdis.lt
END:VEVENT
BEGIN:VEVENT
DTSTART;TZID=UTC:20251002T111500
DTEND;TZID=UTC:20251002T131500
DTSTAMP:20260420T155518
CREATED:20251004T225301Z
LAST-MODIFIED:20251004T225301Z
UID:3820-1759403700-1759410900@jautrisirdis.lt
SUMMARY:Broliai ir seserys: konfliktai ir konkurencija
DESCRIPTION:
URL:https://jautrisirdis.lt/mokymai/broliai-ir-seserys-konfliktai-ir-konkurencija/
LOCATION:Obeliai\, Mokyklos g. 9. Aktų salė\, I aukštas\, Obeliai\, Lietuva
ORGANIZER;CN="Roki%C5%A1kio rajono bendruomeniniai %C5%A1eimos namai V%C5%A1%C4%AE %E2%80%9CJautri %C5%A1irdis%E2%80%9C":MAILTO:seimosnamai@jautrisirdis.lt
END:VEVENT
BEGIN:VEVENT
DTSTART;TZID=UTC:20251002T140000
DTEND;TZID=UTC:20251002T160000
DTSTAMP:20260420T155518
CREATED:20251004T225139Z
LAST-MODIFIED:20251004T225139Z
UID:3818-1759413600-1759420800@jautrisirdis.lt
SUMMARY:Sąmoninga tėvystė: ryšys\, bendravimas ir ribos
DESCRIPTION:
URL:https://jautrisirdis.lt/mokymai/samoninga-tevyste-rysys-bendravimas-ir-ribos-2/
LOCATION:Bendruomeniniai šeimos namai\, Vytauto g. 25\, II aukštas\, Rokiškis\, Lietuva
ORGANIZER;CN="Roki%C5%A1kio rajono bendruomeniniai %C5%A1eimos namai V%C5%A1%C4%AE %E2%80%9CJautri %C5%A1irdis%E2%80%9C":MAILTO:seimosnamai@jautrisirdis.lt
END:VEVENT
BEGIN:VEVENT
DTSTART;TZID=UTC:20251002T161500
DTEND;TZID=UTC:20251002T181500
DTSTAMP:20260420T155518
CREATED:20251004T225359Z
LAST-MODIFIED:20251004T225359Z
UID:3822-1759421700-1759428900@jautrisirdis.lt
SUMMARY:Broliai ir seserys: konfliktai ir konkurencija
DESCRIPTION:
URL:https://jautrisirdis.lt/mokymai/broliai-ir-seserys-konfliktai-ir-konkurencija-02/
LOCATION:Bendruomeniniai šeimos namai\, Vytauto g. 25\, II aukštas\, Rokiškis\, Lietuva
ORGANIZER;CN="Roki%C5%A1kio rajono bendruomeniniai %C5%A1eimos namai V%C5%A1%C4%AE %E2%80%9CJautri %C5%A1irdis%E2%80%9C":MAILTO:seimosnamai@jautrisirdis.lt
END:VEVENT
BEGIN:VEVENT
DTSTART;TZID=UTC:20251006T140000
DTEND;TZID=UTC:20251006T160000
DTSTAMP:20260420T155518
CREATED:20251004T224120Z
LAST-MODIFIED:20251005T204638Z
UID:3802-1759759200-1759766400@jautrisirdis.lt
SUMMARY:Kaip alkoholiui ir narkotikams pasakyti NE (Paaugliams 14-17 m.)
DESCRIPTION:Norint užsiregistruoti į mokymus\, prašome užpildyti formą: \n\n\n\nPlease enable JavaScript in your browser to complete this form.Vardas\, pavardė: *El. paštas: *Telefono numeris: *Jūsų žinutė:PATEIKTI  \n\n\n\n 
URL:https://jautrisirdis.lt/mokymai/kaip-alkoholiui-ir-narkotikams-pasakyti-ne-paaugliams-14-17-m/
LOCATION:Juodupės gimnazija\, P. Cvirkos g. 16A\, Juodupė\, Lietuva
ORGANIZER;CN="Roki%C5%A1kio rajono bendruomeniniai %C5%A1eimos namai V%C5%A1%C4%AE %E2%80%9CJautri %C5%A1irdis%E2%80%9C":MAILTO:seimosnamai@jautrisirdis.lt
END:VEVENT
BEGIN:VEVENT
DTSTART;TZID=UTC:20251008T123000
DTEND;TZID=UTC:20251008T143000
DTSTAMP:20260420T155518
CREATED:20251004T222801Z
LAST-MODIFIED:20251005T204757Z
UID:3792-1759926600-1759933800@jautrisirdis.lt
SUMMARY:Savęs pažinimas taikant dailės terapijos metodus
DESCRIPTION:Norint užsiregistruoti į mokymus\, prašome užpildyti formą: \n\n\n\nPlease enable JavaScript in your browser to complete this form.Vardas\, pavardė: *El. paštas: *Telefono numeris: *Jūsų žinutė:PATEIKTI  \n\n\n\n 
URL:https://jautrisirdis.lt/mokymai/saves-pazinimas-taikant-dailes-terapijos-metodus/
LOCATION:Kriaunos buvusios mokyklos patalpos\, Sartų g. 19\, Kriaunos\, Lietuva
ORGANIZER;CN="Roki%C5%A1kio rajono bendruomeniniai %C5%A1eimos namai V%C5%A1%C4%AE %E2%80%9CJautri %C5%A1irdis%E2%80%9C":MAILTO:seimosnamai@jautrisirdis.lt
END:VEVENT
BEGIN:VEVENT
DTSTART;TZID=UTC:20251013T140000
DTEND;TZID=UTC:20251013T160000
DTSTAMP:20260420T155518
CREATED:20251004T224233Z
LAST-MODIFIED:20251005T204927Z
UID:3804-1760364000-1760371200@jautrisirdis.lt
SUMMARY:Savivertės stiprinimas
DESCRIPTION:Norint užsiregistruoti į mokymus\, prašome užpildyti formą: \n\n\n\nPlease enable JavaScript in your browser to complete this form.Vardas\, pavardė: *El. paštas: *Telefono numeris: *Jūsų žinutė:PATEIKTI  \n\n\n\n 
URL:https://jautrisirdis.lt/mokymai/savivertes-stiprinimas/
LOCATION:Bendruomeniniai šeimos namai\, Vytauto g. 25\, II aukštas\, Rokiškis\, Lietuva
ORGANIZER;CN="Roki%C5%A1kio rajono bendruomeniniai %C5%A1eimos namai V%C5%A1%C4%AE %E2%80%9CJautri %C5%A1irdis%E2%80%9C":MAILTO:seimosnamai@jautrisirdis.lt
END:VEVENT
BEGIN:VEVENT
DTSTART;TZID=UTC:20251015T123000
DTEND;TZID=UTC:20251015T143000
DTSTAMP:20260420T155518
CREATED:20251004T222917Z
LAST-MODIFIED:20251005T205057Z
UID:3794-1760531400-1760538600@jautrisirdis.lt
SUMMARY:Savęs pažinimas taikant dailės terapijos metodus
DESCRIPTION:Norint užsiregistruoti į mokymus\, prašome užpildyti formą: \n\n\n\nPlease enable JavaScript in your browser to complete this form.Vardas\, pavardė: *El. paštas: *Telefono numeris: *Jūsų žinutė:PATEIKTI  \n\n\n\n 
URL:https://jautrisirdis.lt/mokymai/saves-pazinimas-taikant-dailes-terapijos-metodus-10-15/
LOCATION:Kriaunos buvusios mokyklos patalpos\, Sartų g. 19\, Kriaunos\, Lietuva
ORGANIZER;CN="Roki%C5%A1kio rajono bendruomeniniai %C5%A1eimos namai V%C5%A1%C4%AE %E2%80%9CJautri %C5%A1irdis%E2%80%9C":MAILTO:seimosnamai@jautrisirdis.lt
END:VEVENT
BEGIN:VEVENT
DTSTART;TZID=UTC:20251015T150000
DTEND;TZID=UTC:20251015T180000
DTSTAMP:20260420T155518
CREATED:20251004T224521Z
LAST-MODIFIED:20251004T224533Z
UID:3806-1760540400-1760551200@jautrisirdis.lt
SUMMARY:Menas sveikatai: mandalų taškavimo dirbtuvės
DESCRIPTION:Norint užsiregistruoti į mokymus\, prašome užpildyti formą: \n\n\n\nPlease enable JavaScript in your browser to complete this form.Vardas\, pavardė: *El. paštas: *Telefono numeris: *Jūsų žinutė:PATEIKTI  \n\n\n\n 
URL:https://jautrisirdis.lt/mokymai/menas-sveikatai-mandalu-taskavimo-dirbtuves/
LOCATION:Obelių biblioteka\, Stoties g. 29\, Obeliai\, Lietuva
ORGANIZER;CN="Roki%C5%A1kio rajono bendruomeniniai %C5%A1eimos namai V%C5%A1%C4%AE %E2%80%9CJautri %C5%A1irdis%E2%80%9C":MAILTO:seimosnamai@jautrisirdis.lt
END:VEVENT
BEGIN:VEVENT
DTSTART;TZID=UTC:20251016T090000
DTEND;TZID=UTC:20251016T110000
DTSTAMP:20260420T155518
CREATED:20251004T224705Z
LAST-MODIFIED:20251005T205211Z
UID:3810-1760605200-1760612400@jautrisirdis.lt
SUMMARY:Tėvų elgesys vaikų atžvilgiu pasibaigus santykiams\, kaip auginti vaikus išsiskyrus
DESCRIPTION:Norint užsiregistruoti į mokymus\, prašome užpildyti formą: \n\n\n\nPlease enable JavaScript in your browser to complete this form.Vardas\, pavardė: *El. paštas: *Telefono numeris: *Jūsų žinutė:PATEIKTI  \n\n\n\n 
URL:https://jautrisirdis.lt/mokymai/tevu-elgesys-vaiku-atzvilgiu-pasibaigus-santykiams-kaip-auginti-vaikus-issiskyrus/
LOCATION:Obeliai\, Mokyklos g. 9. Aktų salė\, I aukštas\, Obeliai\, Lietuva
ORGANIZER;CN="Roki%C5%A1kio rajono bendruomeniniai %C5%A1eimos namai V%C5%A1%C4%AE %E2%80%9CJautri %C5%A1irdis%E2%80%9C":MAILTO:seimosnamai@jautrisirdis.lt
END:VEVENT
BEGIN:VEVENT
DTSTART;TZID=UTC:20251016T111500
DTEND;TZID=UTC:20251016T131500
DTSTAMP:20260420T155518
CREATED:20251004T224832Z
LAST-MODIFIED:20251005T205449Z
UID:3812-1760613300-1760620500@jautrisirdis.lt
SUMMARY:Vaikai ir technologijos: kaip sveikai suvaldyti vaikų santykį su ekranais?
DESCRIPTION:Norint užsiregistruoti į mokymus\, prašome užpildyti formą: \n\n\n\nPlease enable JavaScript in your browser to complete this form.Vardas\, pavardė: *El. paštas: *Telefono numeris: *Jūsų žinutė:PATEIKTI  \n\n\n\n 
URL:https://jautrisirdis.lt/mokymai/vaikai-ir-technologijos-kaip-sveikai-suvaldyti-vaiku-santyki-su-ekranais-2/
LOCATION:Obeliai\, Mokyklos g. 9. Aktų salė\, I aukštas\, Obeliai\, Lietuva
ORGANIZER;CN="Roki%C5%A1kio rajono bendruomeniniai %C5%A1eimos namai V%C5%A1%C4%AE %E2%80%9CJautri %C5%A1irdis%E2%80%9C":MAILTO:seimosnamai@jautrisirdis.lt
END:VEVENT
BEGIN:VEVENT
DTSTART;TZID=UTC:20251016T140000
DTEND;TZID=UTC:20251016T160000
DTSTAMP:20260420T155518
CREATED:20251004T225005Z
LAST-MODIFIED:20251005T205613Z
UID:3816-1760623200-1760630400@jautrisirdis.lt
SUMMARY:Tėvų elgesys vaikų atžvilgiu pasibaigus santykiams\, kaip auginti vaikus išsiskyrus
DESCRIPTION:Norint užsiregistruoti į mokymus\, prašome užpildyti formą: \n\n\n\nPlease enable JavaScript in your browser to complete this form.Vardas\, pavardė: *El. paštas: *Telefono numeris: *Jūsų žinutė:PATEIKTI  \n\n\n\n 
URL:https://jautrisirdis.lt/mokymai/tevu-elgesys-vaiku-atzvilgiu-pasibaigus-santykiams-kaip-auginti-vaikus-issiskyrus-10-16/
LOCATION:Bendruomeniniai šeimos namai\, Vytauto g. 25\, II aukštas\, Rokiškis\, Lietuva
ORGANIZER;CN="Roki%C5%A1kio rajono bendruomeniniai %C5%A1eimos namai V%C5%A1%C4%AE %E2%80%9CJautri %C5%A1irdis%E2%80%9C":MAILTO:seimosnamai@jautrisirdis.lt
END:VEVENT
BEGIN:VEVENT
DTSTART;TZID=UTC:20251016T161500
DTEND;TZID=UTC:20251016T181500
DTSTAMP:20260420T155518
CREATED:20251005T205912Z
LAST-MODIFIED:20251005T212513Z
UID:3853-1760631300-1760638500@jautrisirdis.lt
SUMMARY:Vaikai ir technologijos: kaip sveikai suvaldyti vaikų santykį su ekranais
DESCRIPTION:Norint užsiregistruoti į mokymus\, prašome užpildyti formą: \n\n\n\nPlease enable JavaScript in your browser to complete this form.Vardas\, pavardė: *El. paštas: *Telefono numeris: *Jūsų žinutė:PATEIKTI  \n\n\n\n 
URL:https://jautrisirdis.lt/mokymai/vaikai-ir-technologijos-kaip-sveikai-suvaldyti-vaiku-santyki-su-ekranais-10-16/
LOCATION:Bendruomeniniai šeimos namai\, Vytauto g. 25\, II aukštas\, Rokiškis\, Lietuva
ORGANIZER;CN="Roki%C5%A1kio rajono bendruomeniniai %C5%A1eimos namai V%C5%A1%C4%AE %E2%80%9CJautri %C5%A1irdis%E2%80%9C":MAILTO:seimosnamai@jautrisirdis.lt
END:VEVENT
BEGIN:VEVENT
DTSTART;TZID=UTC:20251020T090000
DTEND;TZID=UTC:20251020T110000
DTSTAMP:20260420T155518
CREATED:20251005T210607Z
LAST-MODIFIED:20251005T212717Z
UID:3865-1760950800-1760958000@jautrisirdis.lt
SUMMARY:Efektyvus bendravimas
DESCRIPTION:Norint užsiregistruoti į mokymus\, prašome užpildyti formą: \n\n\n\nPlease enable JavaScript in your browser to complete this form.Vardas\, pavardė: *El. paštas: *Telefono numeris: *Jūsų žinutė:PATEIKTI  \n\n\n\n 
URL:https://jautrisirdis.lt/mokymai/efektyvus-bendravimas/
LOCATION:Obelių seniūnija\, Dariaus ir Girėno g. 6\, II aukštas\, Obeliai\, Lietuva
ORGANIZER;CN="Roki%C5%A1kio rajono bendruomeniniai %C5%A1eimos namai V%C5%A1%C4%AE %E2%80%9CJautri %C5%A1irdis%E2%80%9C":MAILTO:seimosnamai@jautrisirdis.lt
END:VEVENT
BEGIN:VEVENT
DTSTART;TZID=UTC:20251020T111500
DTEND;TZID=UTC:20251020T131500
DTSTAMP:20260420T155518
CREATED:20251005T210807Z
LAST-MODIFIED:20251005T212852Z
UID:3867-1760958900-1760966100@jautrisirdis.lt
SUMMARY:Tėvystės mokymai. Kaip padėti sau ir vaikui mokyklos laikotarpiui?
DESCRIPTION:Norint užsiregistruoti į mokymus\, prašome užpildyti formą: \n\n\n\nPlease enable JavaScript in your browser to complete this form.Vardas\, pavardė: *El. paštas: *Telefono numeris: *Jūsų žinutė:PATEIKTI  \n\n\n\n 
URL:https://jautrisirdis.lt/mokymai/tevystes-mokymai-kaip-padeti-sau-ir-vaikui-mokyklos-laikotarpiui/
LOCATION:Obelių seniūnija\, Dariaus ir Girėno g. 6\, II aukštas\, Obeliai\, Lietuva
ORGANIZER;CN="Roki%C5%A1kio rajono bendruomeniniai %C5%A1eimos namai V%C5%A1%C4%AE %E2%80%9CJautri %C5%A1irdis%E2%80%9C":MAILTO:seimosnamai@jautrisirdis.lt
END:VEVENT
BEGIN:VEVENT
DTSTART;TZID=UTC:20251020T140000
DTEND;TZID=UTC:20251020T160000
DTSTAMP:20260420T155518
CREATED:20251005T210515Z
LAST-MODIFIED:20251005T213008Z
UID:3855-1760968800-1760976000@jautrisirdis.lt
SUMMARY:Streso valdymas
DESCRIPTION:Norint užsiregistruoti į mokymus\, prašome užpildyti formą: \n\n\n\nPlease enable JavaScript in your browser to complete this form.Vardas\, pavardė: *El. paštas: *Telefono numeris: *Jūsų žinutė:PATEIKTI  \n\n\n\n 
URL:https://jautrisirdis.lt/mokymai/streso-valdymas-2/
LOCATION:Jūžintų seniūnija\, J. O. Širvydo g. 3\, Jūžintai\, Lietuva
ORGANIZER;CN="Roki%C5%A1kio rajono bendruomeniniai %C5%A1eimos namai V%C5%A1%C4%AE %E2%80%9CJautri %C5%A1irdis%E2%80%9C":MAILTO:seimosnamai@jautrisirdis.lt
END:VEVENT
BEGIN:VEVENT
DTSTART;TZID=UTC:20251020T140000
DTEND;TZID=UTC:20251020T160000
DTSTAMP:20260420T155518
CREATED:20251005T210908Z
LAST-MODIFIED:20251005T213219Z
UID:3869-1760968800-1760976000@jautrisirdis.lt
SUMMARY:Bendravimo įgūdžių tobulinimas
DESCRIPTION:Norint užsiregistruoti į mokymus\, prašome užpildyti formą: \n\n\n\nPlease enable JavaScript in your browser to complete this form.Vardas\, pavardė: *El. paštas: *Telefono numeris: *Jūsų žinutė:PATEIKTI  \n\n\n\n 
URL:https://jautrisirdis.lt/mokymai/bendravimo-igudziu-tobulinimas/
LOCATION:Bendruomeniniai šeimos namai\, Vytauto g. 25\, II aukštas\, Rokiškis\, Lietuva
ORGANIZER;CN="Roki%C5%A1kio rajono bendruomeniniai %C5%A1eimos namai V%C5%A1%C4%AE %E2%80%9CJautri %C5%A1irdis%E2%80%9C":MAILTO:seimosnamai@jautrisirdis.lt
END:VEVENT
BEGIN:VEVENT
DTSTART;TZID=UTC:20251020T161500
DTEND;TZID=UTC:20251020T181500
DTSTAMP:20260420T155518
CREATED:20251005T211034Z
LAST-MODIFIED:20251005T213443Z
UID:3871-1760976900-1760984100@jautrisirdis.lt
SUMMARY:Paauglystės laikotarpio ypatumai ir iššūkiai
DESCRIPTION:Norint užsiregistruoti į mokymus\, prašome užpildyti formą: \n\n\n\n[wpforms id=”3907″\n\n\n\n 
URL:https://jautrisirdis.lt/mokymai/paauglystes-laikotarpio-ypatumai-ir-issukiai/
LOCATION:Bendruomeniniai šeimos namai\, Vytauto g. 25\, II aukštas\, Rokiškis\, Lietuva
ORGANIZER;CN="Roki%C5%A1kio rajono bendruomeniniai %C5%A1eimos namai V%C5%A1%C4%AE %E2%80%9CJautri %C5%A1irdis%E2%80%9C":MAILTO:seimosnamai@jautrisirdis.lt
END:VEVENT
BEGIN:VEVENT
DTSTART;TZID=UTC:20251022T093000
DTEND;TZID=UTC:20251022T113000
DTSTAMP:20260420T155518
CREATED:20251005T211227Z
LAST-MODIFIED:20251005T213735Z
UID:3873-1761125400-1761132600@jautrisirdis.lt
SUMMARY:Savęs pažinimas taikant dailės terapijos metodus
DESCRIPTION:Norint užsiregistruoti į mokymus\, prašome užpildyti formą: \n\n\n\nPlease enable JavaScript in your browser to complete this form.Vardas\, pavardė: *El. paštas: *Telefono numeris: *Jūsų žinutė:PATEIKTI  \n\n\n\n 
URL:https://jautrisirdis.lt/mokymai/saves-pazinimas-taikant-dailes-terapijos-metodus-2/
LOCATION:Kamajų biblioteka\, Vilniaus g. 4\, Kamajai\, Lietuva
ORGANIZER;CN="Roki%C5%A1kio rajono bendruomeniniai %C5%A1eimos namai V%C5%A1%C4%AE %E2%80%9CJautri %C5%A1irdis%E2%80%9C":MAILTO:seimosnamai@jautrisirdis.lt
END:VEVENT
BEGIN:VEVENT
DTSTART;TZID=UTC:20251022T150000
DTEND;TZID=UTC:20251022T180000
DTSTAMP:20260420T155518
CREATED:20251005T211319Z
LAST-MODIFIED:20251005T213858Z
UID:3875-1761145200-1761156000@jautrisirdis.lt
SUMMARY:Menas sveikatai: mandalų taškavimo dirbtuvės
DESCRIPTION:Norint užsiregistruoti į mokymus\, prašome užpildyti formą: \n\n\n\nPlease enable JavaScript in your browser to complete this form.Vardas\, pavardė: *El. paštas: *Telefono numeris: *Jūsų žinutė:PATEIKTI  \n\n\n\n 
URL:https://jautrisirdis.lt/mokymai/saves-pazinimas-taikant-dailes-terapijos-metodus-10-29/
LOCATION:Laibgalių biblioteka\, Ateities g. 3\, Laibgaliai\, Lietuva
ORGANIZER;CN="Roki%C5%A1kio rajono bendruomeniniai %C5%A1eimos namai V%C5%A1%C4%AE %E2%80%9CJautri %C5%A1irdis%E2%80%9C":MAILTO:seimosnamai@jautrisirdis.lt
END:VEVENT
BEGIN:VEVENT
DTSTART;TZID=UTC:20251027T140000
DTEND;TZID=UTC:20251027T160000
DTSTAMP:20260420T155518
CREATED:20251005T211636Z
LAST-MODIFIED:20251005T214033Z
UID:3879-1761573600-1761580800@jautrisirdis.lt
SUMMARY:Emocijų valdymas
DESCRIPTION:Norint užsiregistruoti į mokymus\, prašome užpildyti formą: \n\n\n\nPlease enable JavaScript in your browser to complete this form.Vardas\, pavardė: *El. paštas: *Telefono numeris: *Jūsų žinutė:PATEIKTI  \n\n\n\n 
URL:https://jautrisirdis.lt/mokymai/emociju-valdymas-2/
LOCATION:Kriaunos buvusios mokyklos patalpos\, Sartų g. 19\, Kriaunos\, Lietuva
ORGANIZER;CN="Roki%C5%A1kio rajono bendruomeniniai %C5%A1eimos namai V%C5%A1%C4%AE %E2%80%9CJautri %C5%A1irdis%E2%80%9C":MAILTO:seimosnamai@jautrisirdis.lt
END:VEVENT
BEGIN:VEVENT
DTSTART;TZID=UTC:20251028T143000
DTEND;TZID=UTC:20251028T163000
DTSTAMP:20260420T155518
CREATED:20251005T212106Z
LAST-MODIFIED:20251005T214209Z
UID:3885-1761661800-1761669000@jautrisirdis.lt
SUMMARY:Pykčio valdymas
DESCRIPTION:Norint užsiregistruoti į mokymus\, prašome užpildyti formą: \n\n\n\nPlease enable JavaScript in your browser to complete this form.Vardas\, pavardė: *El. paštas: *Telefono numeris: *Jūsų žinutė:PATEIKTI  \n\n\n\n 
URL:https://jautrisirdis.lt/mokymai/pykcio-valdymas-2/
LOCATION:Lašų biblioteka\, Biržupio g. 4\, Lašai\, Lietuva
ORGANIZER;CN="Roki%C5%A1kio rajono bendruomeniniai %C5%A1eimos namai V%C5%A1%C4%AE %E2%80%9CJautri %C5%A1irdis%E2%80%9C":MAILTO:seimosnamai@jautrisirdis.lt
END:VEVENT
BEGIN:VEVENT
DTSTART;TZID=UTC:20251029T093000
DTEND;TZID=UTC:20251029T113000
DTSTAMP:20260420T155518
CREATED:20251005T211718Z
LAST-MODIFIED:20251005T214319Z
UID:3881-1761730200-1761737400@jautrisirdis.lt
SUMMARY:Savęs pažinimas taikant dailės terapijos metodus
DESCRIPTION:Norint užsiregistruoti į mokymus\, prašome užpildyti formą: \n\n\n\nPlease enable JavaScript in your browser to complete this form.Vardas\, pavardė: *El. paštas: *Telefono numeris: *Jūsų žinutė:PATEIKTI  \n\n\n\n 
URL:https://jautrisirdis.lt/mokymai/saves-pazinimas-taikant-dailes-terapijos-metodus-29/
LOCATION:Kamajų biblioteka\, Vilniaus g. 4\, Kamajai\, Lietuva
ORGANIZER;CN="Roki%C5%A1kio rajono bendruomeniniai %C5%A1eimos namai V%C5%A1%C4%AE %E2%80%9CJautri %C5%A1irdis%E2%80%9C":MAILTO:seimosnamai@jautrisirdis.lt
END:VEVENT
BEGIN:VEVENT
DTSTART;TZID=UTC:20251029T150000
DTEND;TZID=UTC:20251029T180000
DTSTAMP:20260420T155518
CREATED:20251005T212226Z
LAST-MODIFIED:20251029T105258Z
UID:3887-1761750000-1761760800@jautrisirdis.lt
SUMMARY:Streso ir emocinės įtampos įveikos psichologiniai mokymai
DESCRIPTION:Norint užsiregistruoti į mokymus\, prašome užpildyti formą: \n\n\n\nPlease enable JavaScript in your browser to complete this form.Vardas\, pavardė: *El. paštas: *Telefono numeris: *Jūsų žinutė:PATEIKTI  \n\n\n\n 
URL:https://jautrisirdis.lt/mokymai/streso-ir-emocines-itampos-iveikos-psichologiniai-mokymai/
LOCATION:Bendruomeniniai šeimos namai\, Vytauto g. 25\, II aukštas\, Rokiškis\, Lietuva
ORGANIZER;CN="Roki%C5%A1kio rajono bendruomeniniai %C5%A1eimos namai V%C5%A1%C4%AE %E2%80%9CJautri %C5%A1irdis%E2%80%9C":MAILTO:seimosnamai@jautrisirdis.lt
END:VEVENT
END:VCALENDAR