BEGIN:VCALENDAR
VERSION:2.0
PRODID:-//jautrisirdis.lt - ECPv6.15.18//NONSGML v1.0//EN
CALSCALE:GREGORIAN
METHOD:PUBLISH
X-ORIGINAL-URL:https://jautrisirdis.lt
X-WR-CALDESC:jautrisirdis.lt renginiai
REFRESH-INTERVAL;VALUE=DURATION:PT1H
X-Robots-Tag:noindex
X-PUBLISHED-TTL:PT1H
BEGIN:VTIMEZONE
TZID:UTC
BEGIN:STANDARD
TZOFFSETFROM:+0000
TZOFFSETTO:+0000
TZNAME:UTC
DTSTART:20240101T000000
END:STANDARD
END:VTIMEZONE
BEGIN:VEVENT
DTSTART;TZID=UTC:20251104T090000
DTEND;TZID=UTC:20251104T110000
DTSTAMP:20260420T140233
CREATED:20251031T193323Z
LAST-MODIFIED:20251031T202412Z
UID:3936-1762246800-1762254000@jautrisirdis.lt
SUMMARY:Vaikų lytiškumo ugdymas: nuo kūdikystės iki paauglystės
DESCRIPTION:Norint užsiregistruoti į mokymus\, prašome užpildyti formą: \n\n\n\nPlease enable JavaScript in your browser to complete this form.Vardas\, pavardė: *El. paštas: *Telefono numeris: *Jūsų žinutė:PATEIKTI  \n\n\n\n 
URL:https://jautrisirdis.lt/mokymai/vaiku-lytiskumo-ugdymas-nuo-kudikystes-iki-paauglystes-11-04/
LOCATION:Obeliai\, Mokyklos g. 9. Aktų salė\, I aukštas\, Obeliai\, Lietuva
ORGANIZER;CN="Roki%C5%A1kio rajono bendruomeniniai %C5%A1eimos namai V%C5%A1%C4%AE %E2%80%9CJautri %C5%A1irdis%E2%80%9C":MAILTO:seimosnamai@jautrisirdis.lt
END:VEVENT
BEGIN:VEVENT
DTSTART;TZID=UTC:20251104T111500
DTEND;TZID=UTC:20251104T131500
DTSTAMP:20260420T140233
CREATED:20251031T193636Z
LAST-MODIFIED:20251031T202611Z
UID:3938-1762254900-1762262100@jautrisirdis.lt
SUMMARY:Kaip sustabdyti grandinę\, kad mūsų istorija nesikartotų vaikų gyvenime
DESCRIPTION:Norint užsiregistruoti į mokymus\, prašome užpildyti formą: \n\n\n\nPlease enable JavaScript in your browser to complete this form.Vardas\, pavardė: *El. paštas: *Telefono numeris: *Jūsų žinutė:PATEIKTI  \n\n\n\n 
URL:https://jautrisirdis.lt/mokymai/kaip-sustabdyti-grandine-kad-musu-istorija-nesikartotu-vaiku-gyvenime/
LOCATION:Obeliai\, Mokyklos g. 9. Aktų salė\, I aukštas\, Obeliai\, Lietuva
ORGANIZER;CN="Roki%C5%A1kio rajono bendruomeniniai %C5%A1eimos namai V%C5%A1%C4%AE %E2%80%9CJautri %C5%A1irdis%E2%80%9C":MAILTO:seimosnamai@jautrisirdis.lt
END:VEVENT
BEGIN:VEVENT
DTSTART;TZID=UTC:20251104T140000
DTEND;TZID=UTC:20251104T160000
DTSTAMP:20260420T140233
CREATED:20251031T195057Z
LAST-MODIFIED:20251031T203407Z
UID:3940-1762264800-1762272000@jautrisirdis.lt
SUMMARY:Vaikų lytiškumo ugdymas: nuo kūdikystės iki paauglystės
DESCRIPTION:Norint užsiregistruoti į mokymus\, prašome užpildyti formą: \n\n\n\nPlease enable JavaScript in your browser to complete this form.Vardas\, pavardė: *El. paštas: *Telefono numeris: *Jūsų žinutė:PATEIKTI  \n\n\n\n 
URL:https://jautrisirdis.lt/mokymai/vaiku-lytiskumo-ugdymas-nuo-kudikystes-iki-paauglystes-04/
LOCATION:Bendruomeniniai šeimos namai\, Vytauto g. 25\, II aukštas\, Rokiškis\, Lietuva
ORGANIZER;CN="Roki%C5%A1kio rajono bendruomeniniai %C5%A1eimos namai V%C5%A1%C4%AE %E2%80%9CJautri %C5%A1irdis%E2%80%9C":MAILTO:seimosnamai@jautrisirdis.lt
END:VEVENT
BEGIN:VEVENT
DTSTART;TZID=UTC:20251104T161500
DTEND;TZID=UTC:20251104T181500
DTSTAMP:20260420T140233
CREATED:20251031T195224Z
LAST-MODIFIED:20251031T203554Z
UID:3943-1762272900-1762280100@jautrisirdis.lt
SUMMARY:Kaip sustabdyti grandinę\, kad mūsų istorija nesikartotų vaikų gyvenime
DESCRIPTION:Norint užsiregistruoti į mokymus\, prašome užpildyti formą: \n\n\n\nPlease enable JavaScript in your browser to complete this form.Vardas\, pavardė: *El. paštas: *Telefono numeris: *Jūsų žinutė:PATEIKTI  \n\n\n\n 
URL:https://jautrisirdis.lt/mokymai/kaip-sustabdyti-grandine-kad-musu-istorija-nesikartotu-vaiku-gyvenime-11-04/
LOCATION:Bendruomeniniai šeimos namai\, Vytauto g. 25\, II aukštas\, Rokiškis\, Lietuva
ORGANIZER;CN="Roki%C5%A1kio rajono bendruomeniniai %C5%A1eimos namai V%C5%A1%C4%AE %E2%80%9CJautri %C5%A1irdis%E2%80%9C":MAILTO:seimosnamai@jautrisirdis.lt
END:VEVENT
BEGIN:VEVENT
DTSTART;TZID=UTC:20251105T093000
DTEND;TZID=UTC:20251105T123000
DTSTAMP:20260420T140233
CREATED:20251031T195407Z
LAST-MODIFIED:20251031T203828Z
UID:3942-1762335000-1762345800@jautrisirdis.lt
SUMMARY:Savęs pažinimas taikant dailės terapijos metodus
DESCRIPTION:Norint užsiregistruoti į mokymus\, prašome užpildyti formą: \n\n\n\nPlease enable JavaScript in your browser to complete this form.Vardas\, pavardė: *El. paštas: *Telefono numeris: *Jūsų žinutė:PATEIKTI  \n\n\n\n 
URL:https://jautrisirdis.lt/mokymai/saves-pazinimas-taikant-dailes-terapijos-metodus-11-05/
LOCATION:Kamajų biblioteka\, Vilniaus g. 4\, Kamajai\, Lietuva
ORGANIZER;CN="Roki%C5%A1kio rajono bendruomeniniai %C5%A1eimos namai V%C5%A1%C4%AE %E2%80%9CJautri %C5%A1irdis%E2%80%9C":MAILTO:seimosnamai@jautrisirdis.lt
END:VEVENT
BEGIN:VEVENT
DTSTART;TZID=UTC:20251112T093000
DTEND;TZID=UTC:20251112T123000
DTSTAMP:20260420T140233
CREATED:20251031T195517Z
LAST-MODIFIED:20251031T204123Z
UID:3946-1762939800-1762950600@jautrisirdis.lt
SUMMARY:Savęs pažinimas taikant dailės terapijos metodus
DESCRIPTION:Norint užsiregistruoti į mokymus\, prašome užpildyti formą: \n\n\n\nPlease enable JavaScript in your browser to complete this form.Vardas\, pavardė: *El. paštas: *Telefono numeris: *Jūsų žinutė:PATEIKTI  \n\n\n\n 
URL:https://jautrisirdis.lt/mokymai/saves-pazinimas-taikant-dailes-terapijos-metodus-11-12/
LOCATION:Kamajų biblioteka\, Vilniaus g. 4\, Kamajai\, Lietuva
ORGANIZER;CN="Roki%C5%A1kio rajono bendruomeniniai %C5%A1eimos namai V%C5%A1%C4%AE %E2%80%9CJautri %C5%A1irdis%E2%80%9C":MAILTO:seimosnamai@jautrisirdis.lt
END:VEVENT
BEGIN:VEVENT
DTSTART;TZID=UTC:20251112T150000
DTEND;TZID=UTC:20251112T170000
DTSTAMP:20260420T140233
CREATED:20251031T201544Z
LAST-MODIFIED:20251031T204448Z
UID:3952-1762959600-1762966800@jautrisirdis.lt
SUMMARY:Streso ir emocinės įtampos įveikos psichologiniai mokymai
DESCRIPTION:Norint užsiregistruoti į mokymus\, prašome užpildyti formą: \n\n\n\nPlease enable JavaScript in your browser to complete this form.Vardas\, pavardė: *El. paštas: *Telefono numeris: *Jūsų žinutė:PATEIKTI  \n\n\n\n 
URL:https://jautrisirdis.lt/mokymai/streso-ir-emocines-itampos-iveikos-psichologiniai-mokymai-2/
LOCATION:Obelių biblioteka\, Stoties g. 29\, Obeliai\, Lietuva
ORGANIZER;CN="Roki%C5%A1kio rajono bendruomeniniai %C5%A1eimos namai V%C5%A1%C4%AE %E2%80%9CJautri %C5%A1irdis%E2%80%9C":MAILTO:seimosnamai@jautrisirdis.lt
END:VEVENT
BEGIN:VEVENT
DTSTART;TZID=UTC:20251119T093000
DTEND;TZID=UTC:20251119T123000
DTSTAMP:20260420T140233
CREATED:20251031T195556Z
LAST-MODIFIED:20251031T204559Z
UID:3948-1763544600-1763555400@jautrisirdis.lt
SUMMARY:Savęs pažinimas taikant dailės terapijos metodus
DESCRIPTION:Norint užsiregistruoti į mokymus\, prašome užpildyti formą: \n\n\n\nPlease enable JavaScript in your browser to complete this form.Vardas\, pavardė: *El. paštas: *Telefono numeris: *Jūsų žinutė:PATEIKTI  \n\n\n\n 
URL:https://jautrisirdis.lt/mokymai/saves-pazinimas-taikant-dailes-terapijos-metodus-11-19/
LOCATION:Kamajų biblioteka\, Vilniaus g. 4\, Kamajai\, Lietuva
ORGANIZER;CN="Roki%C5%A1kio rajono bendruomeniniai %C5%A1eimos namai V%C5%A1%C4%AE %E2%80%9CJautri %C5%A1irdis%E2%80%9C":MAILTO:seimosnamai@jautrisirdis.lt
END:VEVENT
BEGIN:VEVENT
DTSTART;TZID=UTC:20251119T150000
DTEND;TZID=UTC:20251119T170000
DTSTAMP:20260420T140233
CREATED:20251031T201645Z
LAST-MODIFIED:20251031T204926Z
UID:3954-1763564400-1763571600@jautrisirdis.lt
SUMMARY:Streso ir emocinės įtampos įveikos psichologiniai mokymai
DESCRIPTION:Norint užsiregistruoti į mokymus\, prašome užpildyti formą: \n\n\n\nPlease enable JavaScript in your browser to complete this form.Vardas\, pavardė: *El. paštas: *Telefono numeris: *Jūsų žinutė:PATEIKTI  \n\n\n\n 
URL:https://jautrisirdis.lt/mokymai/streso-ir-emocines-itampos-iveikos-psichologiniai-mokymai-11-19/
LOCATION:Laibgalių biblioteka\, Ateities g. 3\, Laibgaliai\, Lietuva
ORGANIZER;CN="Roki%C5%A1kio rajono bendruomeniniai %C5%A1eimos namai V%C5%A1%C4%AE %E2%80%9CJautri %C5%A1irdis%E2%80%9C":MAILTO:seimosnamai@jautrisirdis.lt
END:VEVENT
BEGIN:VEVENT
DTSTART;TZID=UTC:20251126T093000
DTEND;TZID=UTC:20251126T123000
DTSTAMP:20260420T140233
CREATED:20251031T200809Z
LAST-MODIFIED:20251031T204758Z
UID:3950-1764149400-1764160200@jautrisirdis.lt
SUMMARY:Savęs pažinimas taikant dailės terapijos metodus
DESCRIPTION:Norint užsiregistruoti į mokymus\, prašome užpildyti formą: \n\n\n\nPlease enable JavaScript in your browser to complete this form.Vardas\, pavardė: *El. paštas: *Telefono numeris: *Jūsų žinutė:PATEIKTI  \n\n\n\n 
URL:https://jautrisirdis.lt/mokymai/saves-pazinimas-taikant-dailes-terapijos-metodus-11-26/
LOCATION:Kamajų biblioteka\, Vilniaus g. 4\, Kamajai\, Lietuva
ORGANIZER;CN="Roki%C5%A1kio rajono bendruomeniniai %C5%A1eimos namai V%C5%A1%C4%AE %E2%80%9CJautri %C5%A1irdis%E2%80%9C":MAILTO:seimosnamai@jautrisirdis.lt
END:VEVENT
BEGIN:VEVENT
DTSTART;TZID=UTC:20251126T150000
DTEND;TZID=UTC:20251126T170000
DTSTAMP:20260420T140233
CREATED:20251031T201802Z
LAST-MODIFIED:20251031T205045Z
UID:3956-1764169200-1764176400@jautrisirdis.lt
SUMMARY:Streso ir emocinės įtampos įveikos psichologiniai mokymai
DESCRIPTION:Norint užsiregistruoti į mokymus\, prašome užpildyti formą: \n\n\n\nPlease enable JavaScript in your browser to complete this form.Vardas\, pavardė: *El. paštas: *Telefono numeris: *Jūsų žinutė:PATEIKTI  \n\n\n\n 
URL:https://jautrisirdis.lt/mokymai/streso-ir-emocines-itampos-iveikos-psichologiniai-mokymai-11-26/
LOCATION:Bendruomeniniai šeimos namai\, Vytauto g. 25\, II aukštas\, Rokiškis\, Lietuva
ORGANIZER;CN="Roki%C5%A1kio rajono bendruomeniniai %C5%A1eimos namai V%C5%A1%C4%AE %E2%80%9CJautri %C5%A1irdis%E2%80%9C":MAILTO:seimosnamai@jautrisirdis.lt
END:VEVENT
END:VCALENDAR