BEGIN:VCALENDAR
VERSION:2.0
PRODID:-//jautrisirdis.lt - ECPv6.15.18//NONSGML v1.0//EN
CALSCALE:GREGORIAN
METHOD:PUBLISH
X-WR-CALNAME:jautrisirdis.lt
X-ORIGINAL-URL:https://jautrisirdis.lt
X-WR-CALDESC:jautrisirdis.lt renginiai
REFRESH-INTERVAL;VALUE=DURATION:PT1H
X-Robots-Tag:noindex
X-PUBLISHED-TTL:PT1H
BEGIN:VTIMEZONE
TZID:UTC
BEGIN:STANDARD
TZOFFSETFROM:+0000
TZOFFSETTO:+0000
TZNAME:UTC
DTSTART:20250101T000000
END:STANDARD
END:VTIMEZONE
BEGIN:VEVENT
DTSTART;TZID=UTC:20260113T090000
DTEND;TZID=UTC:20260113T110000
DTSTAMP:20260420T025530
CREATED:20260105T071406Z
LAST-MODIFIED:20260105T071751Z
UID:4086-1768294800-1768302000@jautrisirdis.lt
SUMMARY:Perdegimas - kaip suvaldyti ir atstatyti vidinius resursus?
DESCRIPTION:
URL:https://jautrisirdis.lt/mokymai/perdegimas-kaip-suvaldyti-ir-atstatyti-vidinius-resursus-01-13/
LOCATION:Juodupės seniūnija\, Pergalės g. 8B\, Juodupė\, Lithuania
ORGANIZER;CN="Roki%C5%A1kio rajono bendruomeniniai %C5%A1eimos namai V%C5%A1%C4%AE %E2%80%9CJautri %C5%A1irdis%E2%80%9C":MAILTO:seimosnamai@jautrisirdis.lt
END:VEVENT
BEGIN:VEVENT
DTSTART;TZID=UTC:20260113T111500
DTEND;TZID=UTC:20260113T131500
DTSTAMP:20260420T025530
CREATED:20260105T081228Z
LAST-MODIFIED:20260105T081228Z
UID:4089-1768302900-1768310100@jautrisirdis.lt
SUMMARY:Kaip sustabdyti grandinę\, kad mūsų istorija nesikartotų vaikų gyvenime?
DESCRIPTION:
URL:https://jautrisirdis.lt/mokymai/kaip-sustabdyti-grandine-kad-musu-istorija-nesikartotu-vaiku-gyvenime-01-13/
LOCATION:Juodupės seniūnija\, Pergalės g. 8B\, Juodupė\, Lithuania
ORGANIZER;CN="Roki%C5%A1kio rajono bendruomeniniai %C5%A1eimos namai V%C5%A1%C4%AE %E2%80%9CJautri %C5%A1irdis%E2%80%9C":MAILTO:seimosnamai@jautrisirdis.lt
END:VEVENT
BEGIN:VEVENT
DTSTART;TZID=UTC:20260113T140000
DTEND;TZID=UTC:20260113T160000
DTSTAMP:20260420T025530
CREATED:20260105T081802Z
LAST-MODIFIED:20260105T081802Z
UID:4091-1768312800-1768320000@jautrisirdis.lt
SUMMARY:Emocinis raštingumas: kaip suprasti\, ką jauti ir ką su tuo daryti?
DESCRIPTION:
URL:https://jautrisirdis.lt/mokymai/kaip-suprasti-ka-jauti-ir-ka-su-tuo-daryti-01-13/
LOCATION:Bendruomeniniai šeimos namai\, Vytauto g. 25\, II aukštas\, Rokiškis\, Lietuva
ORGANIZER;CN="Roki%C5%A1kio rajono bendruomeniniai %C5%A1eimos namai V%C5%A1%C4%AE %E2%80%9CJautri %C5%A1irdis%E2%80%9C":MAILTO:seimosnamai@jautrisirdis.lt
END:VEVENT
BEGIN:VEVENT
DTSTART;TZID=UTC:20260113T161500
DTEND;TZID=UTC:20260113T181500
DTSTAMP:20260420T025530
CREATED:20260105T081953Z
LAST-MODIFIED:20260105T081953Z
UID:4094-1768320900-1768328100@jautrisirdis.lt
SUMMARY:Tėvų kaltė ir spaudimas "būti tobulu": kaip atsisakyti nerealistinių lūkesčių?
DESCRIPTION:
URL:https://jautrisirdis.lt/mokymai/tevu-kalte-ir-spaudimas-buti-tobulu/
LOCATION:Bendruomeniniai šeimos namai\, Vytauto g. 25\, II aukštas\, Rokiškis\, Lietuva
ORGANIZER;CN="Roki%C5%A1kio rajono bendruomeniniai %C5%A1eimos namai V%C5%A1%C4%AE %E2%80%9CJautri %C5%A1irdis%E2%80%9C":MAILTO:seimosnamai@jautrisirdis.lt
END:VEVENT
BEGIN:VEVENT
DTSTART;TZID=UTC:20260114T110000
DTEND;TZID=UTC:20260114T130000
DTSTAMP:20260420T025530
CREATED:20260105T082219Z
LAST-MODIFIED:20260105T082219Z
UID:4096-1768388400-1768395600@jautrisirdis.lt
SUMMARY:Savęs pažinimas taikant dailės terapijos metodus
DESCRIPTION:
URL:https://jautrisirdis.lt/mokymai/saves-pazinimas-taikant-dailes-terapijos-metodus-01-14/
LOCATION:Obelių biblioteka\, Stoties g. 29\, Obeliai\, Lietuva
ORGANIZER;CN="Roki%C5%A1kio rajono bendruomeniniai %C5%A1eimos namai V%C5%A1%C4%AE %E2%80%9CJautri %C5%A1irdis%E2%80%9C":MAILTO:seimosnamai@jautrisirdis.lt
END:VEVENT
BEGIN:VEVENT
DTSTART;TZID=UTC:20260114T150000
DTEND;TZID=UTC:20260114T180000
DTSTAMP:20260420T025530
CREATED:20260105T085205Z
LAST-MODIFIED:20260105T085205Z
UID:4102-1768402800-1768413600@jautrisirdis.lt
SUMMARY:Streso ir emocinės įtampos įveikos psichologiniai mokymai
DESCRIPTION:
URL:https://jautrisirdis.lt/mokymai/streso-ir-emocines-itampos-iveikos-psichologiniai-mokymai-01-14/
LOCATION:Juodupės biblioteka\, Tekstilininkų g. 5\, Juodupė\, Lietuva
ORGANIZER;CN="Roki%C5%A1kio rajono bendruomeniniai %C5%A1eimos namai V%C5%A1%C4%AE %E2%80%9CJautri %C5%A1irdis%E2%80%9C":MAILTO:seimosnamai@jautrisirdis.lt
END:VEVENT
BEGIN:VEVENT
DTSTART;TZID=UTC:20260120T090000
DTEND;TZID=UTC:20260120T110000
DTSTAMP:20260420T025530
CREATED:20260105T090350Z
LAST-MODIFIED:20260105T090350Z
UID:4110-1768899600-1768906800@jautrisirdis.lt
SUMMARY:Streso valdymas
DESCRIPTION:
URL:https://jautrisirdis.lt/mokymai/streso-valdymas-01-20/
LOCATION:Kriaunos buvusios mokyklos patalpos\, Sartų g. 19\, Kriaunos\, Lietuva
ORGANIZER;CN="Roki%C5%A1kio rajono bendruomeniniai %C5%A1eimos namai V%C5%A1%C4%AE %E2%80%9CJautri %C5%A1irdis%E2%80%9C":MAILTO:seimosnamai@jautrisirdis.lt
END:VEVENT
BEGIN:VEVENT
DTSTART;TZID=UTC:20260120T111500
DTEND;TZID=UTC:20260120T131500
DTSTAMP:20260420T025530
CREATED:20260105T091639Z
LAST-MODIFIED:20260105T091639Z
UID:4112-1768907700-1768914900@jautrisirdis.lt
SUMMARY:Efektyvūs auklėjimo metodai
DESCRIPTION:
URL:https://jautrisirdis.lt/mokymai/efektyvus-auklejimo-metodai-01-20/
LOCATION:Kriaunos buvusios mokyklos patalpos\, Sartų g. 19\, Kriaunos\, Lietuva
ORGANIZER;CN="Roki%C5%A1kio rajono bendruomeniniai %C5%A1eimos namai V%C5%A1%C4%AE %E2%80%9CJautri %C5%A1irdis%E2%80%9C":MAILTO:seimosnamai@jautrisirdis.lt
END:VEVENT
BEGIN:VEVENT
DTSTART;TZID=UTC:20260120T140000
DTEND;TZID=UTC:20260120T160000
DTSTAMP:20260420T025530
CREATED:20260105T091736Z
LAST-MODIFIED:20260105T091736Z
UID:4114-1768917600-1768924800@jautrisirdis.lt
SUMMARY:Emocijų valdymas
DESCRIPTION:
URL:https://jautrisirdis.lt/mokymai/emociju-valdymas-01-20/
LOCATION:Bendruomeniniai šeimos namai\, Vytauto g. 25\, II aukštas\, Rokiškis\, Lietuva
ORGANIZER;CN="Roki%C5%A1kio rajono bendruomeniniai %C5%A1eimos namai V%C5%A1%C4%AE %E2%80%9CJautri %C5%A1irdis%E2%80%9C":MAILTO:seimosnamai@jautrisirdis.lt
END:VEVENT
BEGIN:VEVENT
DTSTART;TZID=UTC:20260120T161500
DTEND;TZID=UTC:20260120T181500
DTSTAMP:20260420T025530
CREATED:20260105T091848Z
LAST-MODIFIED:20260105T091848Z
UID:4116-1768925700-1768932900@jautrisirdis.lt
SUMMARY:Paauglystės iššūkiai ir galimybės
DESCRIPTION:
URL:https://jautrisirdis.lt/mokymai/paauglystes-issukiai-ir-galimybes-01-20/
LOCATION:Bendruomeniniai šeimos namai\, Vytauto g. 25\, II aukštas\, Rokiškis\, Lietuva
ORGANIZER;CN="Roki%C5%A1kio rajono bendruomeniniai %C5%A1eimos namai V%C5%A1%C4%AE %E2%80%9CJautri %C5%A1irdis%E2%80%9C":MAILTO:seimosnamai@jautrisirdis.lt
END:VEVENT
BEGIN:VEVENT
DTSTART;TZID=UTC:20260121T110000
DTEND;TZID=UTC:20260121T130000
DTSTAMP:20260420T025530
CREATED:20260105T082253Z
LAST-MODIFIED:20260105T082253Z
UID:4098-1768993200-1769000400@jautrisirdis.lt
SUMMARY:Savęs pažinimas taikant dailės terapijos metodus
DESCRIPTION:
URL:https://jautrisirdis.lt/mokymai/saves-pazinimas-taikant-dailes-terapijos-metodus-01-21/
LOCATION:Obelių biblioteka\, Stoties g. 29\, Obeliai\, Lietuva
ORGANIZER;CN="Roki%C5%A1kio rajono bendruomeniniai %C5%A1eimos namai V%C5%A1%C4%AE %E2%80%9CJautri %C5%A1irdis%E2%80%9C":MAILTO:seimosnamai@jautrisirdis.lt
END:VEVENT
BEGIN:VEVENT
DTSTART;TZID=UTC:20260121T150000
DTEND;TZID=UTC:20260121T180000
DTSTAMP:20260420T025530
CREATED:20260105T085427Z
LAST-MODIFIED:20260105T085427Z
UID:4106-1769007600-1769018400@jautrisirdis.lt
SUMMARY:Streso ir emocinės įtampos įveikos psichologiniai mokymai
DESCRIPTION:
URL:https://jautrisirdis.lt/mokymai/streso-ir-emocines-itampos-iveikos-psichologiniai-mokymai-01-21/
LOCATION:Juodupės biblioteka\, Tekstilininkų g. 5\, Juodupė\, Lietuva
ORGANIZER;CN="Roki%C5%A1kio rajono bendruomeniniai %C5%A1eimos namai V%C5%A1%C4%AE %E2%80%9CJautri %C5%A1irdis%E2%80%9C":MAILTO:seimosnamai@jautrisirdis.lt
END:VEVENT
BEGIN:VEVENT
DTSTART;TZID=UTC:20260128T110000
DTEND;TZID=UTC:20260128T130000
DTSTAMP:20260420T025530
CREATED:20260105T082329Z
LAST-MODIFIED:20260105T082329Z
UID:4100-1769598000-1769605200@jautrisirdis.lt
SUMMARY:Savęs pažinimas taikant dailės terapijos metodus
DESCRIPTION:
URL:https://jautrisirdis.lt/mokymai/saves-pazinimas-taikant-dailes-terapijos-metodus-01-28/
LOCATION:Obelių biblioteka\, Stoties g. 29\, Obeliai\, Lietuva
ORGANIZER;CN="Roki%C5%A1kio rajono bendruomeniniai %C5%A1eimos namai V%C5%A1%C4%AE %E2%80%9CJautri %C5%A1irdis%E2%80%9C":MAILTO:seimosnamai@jautrisirdis.lt
END:VEVENT
BEGIN:VEVENT
DTSTART;TZID=UTC:20260128T150000
DTEND;TZID=UTC:20260128T180000
DTSTAMP:20260420T025530
CREATED:20260105T090229Z
LAST-MODIFIED:20260105T090229Z
UID:4108-1769612400-1769623200@jautrisirdis.lt
SUMMARY:Streso ir emocinės įtampos įveikos psichologiniai mokymai
DESCRIPTION:
URL:https://jautrisirdis.lt/mokymai/streso-ir-emocines-itampos-iveikos-psichologiniai-mokymai-01-28/
LOCATION:Juodupės biblioteka\, Tekstilininkų g. 5\, Juodupė\, Lietuva
ORGANIZER;CN="Roki%C5%A1kio rajono bendruomeniniai %C5%A1eimos namai V%C5%A1%C4%AE %E2%80%9CJautri %C5%A1irdis%E2%80%9C":MAILTO:seimosnamai@jautrisirdis.lt
END:VEVENT
END:VCALENDAR