BEGIN:VCALENDAR
VERSION:2.0
PRODID:-//jautrisirdis.lt - ECPv6.15.18//NONSGML v1.0//EN
CALSCALE:GREGORIAN
METHOD:PUBLISH
X-WR-CALNAME:jautrisirdis.lt
X-ORIGINAL-URL:https://jautrisirdis.lt
X-WR-CALDESC:jautrisirdis.lt renginiai
REFRESH-INTERVAL;VALUE=DURATION:PT1H
X-Robots-Tag:noindex
X-PUBLISHED-TTL:PT1H
BEGIN:VTIMEZONE
TZID:UTC
BEGIN:STANDARD
TZOFFSETFROM:+0000
TZOFFSETTO:+0000
TZNAME:UTC
DTSTART:20250101T000000
END:STANDARD
END:VTIMEZONE
BEGIN:VEVENT
DTSTART;TZID=UTC:20260302T140000
DTEND;TZID=UTC:20260302T170000
DTSTAMP:20260418T011221
CREATED:20260304T022305Z
LAST-MODIFIED:20260304T023347Z
UID:4174-1772460000-1772470800@jautrisirdis.lt
SUMMARY:Streso ir emocinės įtampos įveikos psichologiniai mokymai
DESCRIPTION:Please enable JavaScript in your browser to complete this form.Mokymų data: *Vardas\, pavardė: *El. paštas: *Telefono numeris: *Jūsų žinutė:PATEIKTI
URL:https://jautrisirdis.lt/mokymai/streso-ir-emocines-itampos-iveikos-psichologiniai-mokymai-03-02/
LOCATION:Lailūnų biblioteka\, Bibliotekos g. 5\, Lailūnų k.\, Lietuva
ORGANIZER;CN="Roki%C5%A1kio rajono bendruomeniniai %C5%A1eimos namai V%C5%A1%C4%AE %E2%80%9CJautri %C5%A1irdis%E2%80%9C":MAILTO:seimosnamai@jautrisirdis.lt
END:VEVENT
BEGIN:VEVENT
DTSTART;TZID=UTC:20260304T140000
DTEND;TZID=UTC:20260304T170000
DTSTAMP:20260418T011221
CREATED:20260304T023251Z
LAST-MODIFIED:20260304T023251Z
UID:4177-1772632800-1772643600@jautrisirdis.lt
SUMMARY:Streso ir emocinės įtampos įveikos psichologiniai mokymai
DESCRIPTION:Please enable JavaScript in your browser to complete this form.Mokymų data: *Vardas\, pavardė: *El. paštas: *Telefono numeris: *Jūsų žinutė:PATEIKTI
URL:https://jautrisirdis.lt/mokymai/streso-ir-emocines-itampos-iveikos-psichologiniai-mokymai-03-04/
LOCATION:Lailūnų biblioteka\, Bibliotekos g. 5\, Lailūnų k.\, Lietuva
ORGANIZER;CN="Roki%C5%A1kio rajono bendruomeniniai %C5%A1eimos namai V%C5%A1%C4%AE %E2%80%9CJautri %C5%A1irdis%E2%80%9C":MAILTO:seimosnamai@jautrisirdis.lt
END:VEVENT
BEGIN:VEVENT
DTSTART;TZID=UTC:20260305T090000
DTEND;TZID=UTC:20260305T110000
DTSTAMP:20260418T011221
CREATED:20260304T023831Z
LAST-MODIFIED:20260304T023902Z
UID:4183-1772701200-1772708400@jautrisirdis.lt
SUMMARY:Vaikų savarankiškumo ugdymas
DESCRIPTION:Please enable JavaScript in your browser to complete this form.Mokymų data: *Vardas\, pavardė: *El. paštas: *Telefono numeris: *Jūsų žinutė:PATEIKTI
URL:https://jautrisirdis.lt/mokymai/vaiku-savarankiskumo-ugdymas-03-05/
LOCATION:Obeliai\, Mokyklos g. 9. Aktų salė\, I aukštas\, Obeliai\, Lietuva
ORGANIZER;CN="Roki%C5%A1kio rajono bendruomeniniai %C5%A1eimos namai V%C5%A1%C4%AE %E2%80%9CJautri %C5%A1irdis%E2%80%9C":MAILTO:seimosnamai@jautrisirdis.lt
END:VEVENT
BEGIN:VEVENT
DTSTART;TZID=UTC:20260305T113000
DTEND;TZID=UTC:20260305T133000
DTSTAMP:20260418T011221
CREATED:20260304T024135Z
LAST-MODIFIED:20260304T024206Z
UID:4185-1772710200-1772717400@jautrisirdis.lt
SUMMARY:Vaikų savarankiškumo ugdymas
DESCRIPTION:Please enable JavaScript in your browser to complete this form.Mokymų data: *Vardas\, pavardė: *El. paštas: *Telefono numeris: *Jūsų žinutė:PATEIKTI
URL:https://jautrisirdis.lt/mokymai/vaiku-savarankiskumo-ugdymas/
LOCATION:Juodupės seniūnija\, Pergalės g. 8B\, Juodupė\, Lithuania
ORGANIZER;CN="Roki%C5%A1kio rajono bendruomeniniai %C5%A1eimos namai V%C5%A1%C4%AE %E2%80%9CJautri %C5%A1irdis%E2%80%9C":MAILTO:seimosnamai@jautrisirdis.lt
END:VEVENT
BEGIN:VEVENT
DTSTART;TZID=UTC:20260305T140000
DTEND;TZID=UTC:20260305T160000
DTSTAMP:20260418T011221
CREATED:20260304T024541Z
LAST-MODIFIED:20260304T024541Z
UID:4187-1772719200-1772726400@jautrisirdis.lt
SUMMARY:Vaikų savarankiškumo ugdymas
DESCRIPTION:Please enable JavaScript in your browser to complete this form.Mokymų data: *Vardas\, pavardė: *El. paštas: *Telefono numeris: *Jūsų žinutė:PATEIKTI
URL:https://jautrisirdis.lt/mokymai/vaiku-savarankiskumo-ugdymas-2/
LOCATION:Bendruomeniniai šeimos namai\, Vytauto g. 25\, II aukštas\, Rokiškis\, Lietuva
ORGANIZER;CN="Roki%C5%A1kio rajono bendruomeniniai %C5%A1eimos namai V%C5%A1%C4%AE %E2%80%9CJautri %C5%A1irdis%E2%80%9C":MAILTO:seimosnamai@jautrisirdis.lt
END:VEVENT
BEGIN:VEVENT
DTSTART;TZID=UTC:20260309T090000
DTEND;TZID=UTC:20260309T110000
DTSTAMP:20260418T011221
CREATED:20260304T025413Z
LAST-MODIFIED:20260304T025413Z
UID:4193-1773046800-1773054000@jautrisirdis.lt
SUMMARY:Patyčios ir socialinių santykių problemos
DESCRIPTION:Please enable JavaScript in your browser to complete this form.Mokymų data: *Vardas\, pavardė: *El. paštas: *Telefono numeris: *Jūsų žinutė:PATEIKTI
URL:https://jautrisirdis.lt/mokymai/patycios-ir-socialiniu-santykiu-problemos/
LOCATION:Obeliai\, Mokyklos g. 9. Aktų salė\, I aukštas\, Obeliai\, Lietuva
ORGANIZER;CN="Roki%C5%A1kio rajono bendruomeniniai %C5%A1eimos namai V%C5%A1%C4%AE %E2%80%9CJautri %C5%A1irdis%E2%80%9C":MAILTO:seimosnamai@jautrisirdis.lt
END:VEVENT
BEGIN:VEVENT
DTSTART;TZID=UTC:20260309T113000
DTEND;TZID=UTC:20260309T133000
DTSTAMP:20260418T011221
CREATED:20260304T024959Z
LAST-MODIFIED:20260304T024959Z
UID:4191-1773055800-1773063000@jautrisirdis.lt
SUMMARY:Patyčios ir socialinių santykių problemos
DESCRIPTION:Please enable JavaScript in your browser to complete this form.Mokymų data: *Vardas\, pavardė: *El. paštas: *Telefono numeris: *Jūsų žinutė:PATEIKTI
URL:https://jautrisirdis.lt/mokymai/patycios-ir-socialiniu-santykiu-problemos-03-09/
LOCATION:Juodupės seniūnija\, Pergalės g. 8B\, Juodupė\, Lithuania
ORGANIZER;CN="Roki%C5%A1kio rajono bendruomeniniai %C5%A1eimos namai V%C5%A1%C4%AE %E2%80%9CJautri %C5%A1irdis%E2%80%9C":MAILTO:seimosnamai@jautrisirdis.lt
END:VEVENT
BEGIN:VEVENT
DTSTART;TZID=UTC:20260309T140000
DTEND;TZID=UTC:20260309T160000
DTSTAMP:20260418T011221
CREATED:20260304T024823Z
LAST-MODIFIED:20260304T025240Z
UID:4189-1773064800-1773072000@jautrisirdis.lt
SUMMARY:Patyčios ir socialinių santykių problemos
DESCRIPTION:Please enable JavaScript in your browser to complete this form.Mokymų data: *Vardas\, pavardė: *El. paštas: *Telefono numeris: *Jūsų žinutė:PATEIKTI
URL:https://jautrisirdis.lt/mokymai/patycios-ir-socialiniu-santykiu-problemos-03/
LOCATION:Bendruomeniniai šeimos namai\, Vytauto g. 25\, II aukštas\, Rokiškis\, Lietuva
ORGANIZER;CN="Roki%C5%A1kio rajono bendruomeniniai %C5%A1eimos namai V%C5%A1%C4%AE %E2%80%9CJautri %C5%A1irdis%E2%80%9C":MAILTO:seimosnamai@jautrisirdis.lt
END:VEVENT
BEGIN:VEVENT
DTSTART;TZID=UTC:20260309T140000
DTEND;TZID=UTC:20260309T170000
DTSTAMP:20260418T011221
CREATED:20260304T023503Z
LAST-MODIFIED:20260304T023652Z
UID:4181-1773064800-1773075600@jautrisirdis.lt
SUMMARY:Streso ir emocinės įtampos įveikos psichologiniai mokymai
DESCRIPTION:Please enable JavaScript in your browser to complete this form.Mokymų data: *Vardas\, pavardė: *El. paštas: *Telefono numeris: *Jūsų žinutė:PATEIKTI
URL:https://jautrisirdis.lt/mokymai/streso-ir-emocines-itampos-iveikos-psichologiniai-mokymai-03-09/
LOCATION:Lailūnų biblioteka\, Bibliotekos g. 5\, Lailūnų k.\, Lietuva
ORGANIZER;CN="Roki%C5%A1kio rajono bendruomeniniai %C5%A1eimos namai V%C5%A1%C4%AE %E2%80%9CJautri %C5%A1irdis%E2%80%9C":MAILTO:seimosnamai@jautrisirdis.lt
END:VEVENT
BEGIN:VEVENT
DTSTART;TZID=UTC:20260318T100000
DTEND;TZID=UTC:20260318T120000
DTSTAMP:20260418T011221
CREATED:20260304T030014Z
LAST-MODIFIED:20260304T030034Z
UID:4201-1773828000-1773835200@jautrisirdis.lt
SUMMARY:Savęs pažinimas taikant dailės terapijos metodus
DESCRIPTION:Please enable JavaScript in your browser to complete this form.Mokymų data: *Vardas\, pavardė: *El. paštas: *Telefono numeris: *Jūsų žinutė:PATEIKTI
URL:https://jautrisirdis.lt/mokymai/saves-pazinimas-taikant-dailes-terapijos-metodus-03-18/
LOCATION:Pakriaunių biblioteka\, Pakriaunių g. 15\, Pakriauniai\, Lithuania
ORGANIZER;CN="Roki%C5%A1kio rajono bendruomeniniai %C5%A1eimos namai V%C5%A1%C4%AE %E2%80%9CJautri %C5%A1irdis%E2%80%9C":MAILTO:seimosnamai@jautrisirdis.lt
END:VEVENT
BEGIN:VEVENT
DTSTART;TZID=UTC:20260323T110000
DTEND;TZID=UTC:20260323T130000
DTSTAMP:20260418T011221
CREATED:20260304T030308Z
LAST-MODIFIED:20260304T030308Z
UID:4206-1774263600-1774270800@jautrisirdis.lt
SUMMARY:Emocijų valdymas ir sprendimų priėmimas įtampos metu
DESCRIPTION:Please enable JavaScript in your browser to complete this form.Mokymų data: *Vardas\, pavardė: *El. paštas: *Telefono numeris: *Jūsų žinutė:PATEIKTI
URL:https://jautrisirdis.lt/mokymai/emociju-valdymas-ir-sprendimu-priemimas-itampos-metu/
LOCATION:Obeliai\, Mokyklos g. 9. Aktų salė\, I aukštas\, Obeliai\, Lietuva
ORGANIZER;CN="Roki%C5%A1kio rajono bendruomeniniai %C5%A1eimos namai V%C5%A1%C4%AE %E2%80%9CJautri %C5%A1irdis%E2%80%9C":MAILTO:seimosnamai@jautrisirdis.lt
END:VEVENT
BEGIN:VEVENT
DTSTART;TZID=UTC:20260323T140000
DTEND;TZID=UTC:20260323T160000
DTSTAMP:20260418T011221
CREATED:20260304T030538Z
LAST-MODIFIED:20260304T030538Z
UID:4208-1774274400-1774281600@jautrisirdis.lt
SUMMARY:Savęs pažinimas ir vidinė stiprybė
DESCRIPTION:Please enable JavaScript in your browser to complete this form.Mokymų data: *Vardas\, pavardė: *El. paštas: *Telefono numeris: *Jūsų žinutė:PATEIKTI
URL:https://jautrisirdis.lt/mokymai/saves-pazinimas-ir-vidine-stiprybe/
LOCATION:Bendruomeniniai šeimos namai\, Vytauto g. 25\, II aukštas\, Rokiškis\, Lietuva
ORGANIZER;CN="Roki%C5%A1kio rajono bendruomeniniai %C5%A1eimos namai V%C5%A1%C4%AE %E2%80%9CJautri %C5%A1irdis%E2%80%9C":MAILTO:seimosnamai@jautrisirdis.lt
END:VEVENT
BEGIN:VEVENT
DTSTART;TZID=UTC:20260325T100000
DTEND;TZID=UTC:20260325T120000
DTSTAMP:20260418T011221
CREATED:20260304T030127Z
LAST-MODIFIED:20260304T030127Z
UID:4204-1774432800-1774440000@jautrisirdis.lt
SUMMARY:Savęs pažinimas taikant dailės terapijos metodus
DESCRIPTION:Please enable JavaScript in your browser to complete this form.Mokymų data: *Vardas\, pavardė: *El. paštas: *Telefono numeris: *Jūsų žinutė:PATEIKTI
URL:https://jautrisirdis.lt/mokymai/saves-pazinimas-taikant-dailes-terapijos-metodus-03-25/
LOCATION:Pakriaunių biblioteka\, Pakriaunių g. 15\, Pakriauniai\, Lithuania
ORGANIZER;CN="Roki%C5%A1kio rajono bendruomeniniai %C5%A1eimos namai V%C5%A1%C4%AE %E2%80%9CJautri %C5%A1irdis%E2%80%9C":MAILTO:seimosnamai@jautrisirdis.lt
END:VEVENT
BEGIN:VEVENT
DTSTART;TZID=UTC:20260326T090000
DTEND;TZID=UTC:20260326T110000
DTSTAMP:20260418T011221
CREATED:20260304T025613Z
LAST-MODIFIED:20260304T025613Z
UID:4195-1774515600-1774522800@jautrisirdis.lt
SUMMARY:Tėvų tarpusavio konfliktai ir skyrybos
DESCRIPTION:Please enable JavaScript in your browser to complete this form.Mokymų data: *Vardas\, pavardė: *El. paštas: *Telefono numeris: *Jūsų žinutė:PATEIKTI
URL:https://jautrisirdis.lt/mokymai/tevu-tarpusavio-konfliktai-ir-skyrybos/
LOCATION:Obeliai\, Mokyklos g. 9. Aktų salė\, I aukštas\, Obeliai\, Lietuva
ORGANIZER;CN="Roki%C5%A1kio rajono bendruomeniniai %C5%A1eimos namai V%C5%A1%C4%AE %E2%80%9CJautri %C5%A1irdis%E2%80%9C":MAILTO:seimosnamai@jautrisirdis.lt
END:VEVENT
BEGIN:VEVENT
DTSTART;TZID=UTC:20260326T113000
DTEND;TZID=UTC:20260326T133000
DTSTAMP:20260418T011221
CREATED:20260304T025739Z
LAST-MODIFIED:20260304T025739Z
UID:4197-1774524600-1774531800@jautrisirdis.lt
SUMMARY:Tėvų tarpusavio konfliktai ir skyrybos
DESCRIPTION:Please enable JavaScript in your browser to complete this form.Mokymų data: *Vardas\, pavardė: *El. paštas: *Telefono numeris: *Jūsų žinutė:PATEIKTI
URL:https://jautrisirdis.lt/mokymai/tevu-tarpusavio-konfliktai-ir-skyrybos-2/
LOCATION:Juodupės seniūnija\, Pergalės g. 8B\, Juodupė\, Lithuania
ORGANIZER;CN="Roki%C5%A1kio rajono bendruomeniniai %C5%A1eimos namai V%C5%A1%C4%AE %E2%80%9CJautri %C5%A1irdis%E2%80%9C":MAILTO:seimosnamai@jautrisirdis.lt
END:VEVENT
BEGIN:VEVENT
DTSTART;TZID=UTC:20260326T140000
DTEND;TZID=UTC:20260326T160000
DTSTAMP:20260418T011221
CREATED:20260304T025824Z
LAST-MODIFIED:20260304T025824Z
UID:4199-1774533600-1774540800@jautrisirdis.lt
SUMMARY:Tėvų tarpusavio konfliktai ir skyrybos
DESCRIPTION:Please enable JavaScript in your browser to complete this form.Mokymų data: *Vardas\, pavardė: *El. paštas: *Telefono numeris: *Jūsų žinutė:PATEIKTI
URL:https://jautrisirdis.lt/mokymai/tevu-tarpusavio-konfliktai-ir-skyrybos-3/
LOCATION:Bendruomeniniai šeimos namai\, Vytauto g. 25\, II aukštas\, Rokiškis\, Lietuva
ORGANIZER;CN="Roki%C5%A1kio rajono bendruomeniniai %C5%A1eimos namai V%C5%A1%C4%AE %E2%80%9CJautri %C5%A1irdis%E2%80%9C":MAILTO:seimosnamai@jautrisirdis.lt
END:VEVENT
END:VCALENDAR